BEGIN:VCALENDAR
VERSION:2.0
PRODID:-//wp-events-plugin.com//7.2.3.1//EN
BEGIN:VEVENT
UID:302@gospelkoor-share.nl
DTSTART;TZID=Europe/Amsterdam:20260423T200000
DTEND;TZID=Europe/Amsterdam:20260423T220000
DTSTAMP:20250926T133721Z
URL:http://gospelkoor-share.nl/?event=repetitie-2025-10-02-2025-10-09-2025
 -10-16-2025-10-23-2025-10-30-2025-11-06-2025-11-13-2025-11-20-2025-11-27-2
 025-12-04-2025-12-11-2025-12-18-2025-12-25-2026-01-01-2026-01-08-2026-01-1
 5-16-2026-04-23
SUMMARY:Repetitie
DESCRIPTION:We repeteren elke week op donderdag van 20:00-22:00 uur. Tussen
 door nemen we tijd voor een kop koffie of thee en er tijd om bij te praten
 . Mocht je een keer willen kijken/meeluisteren\, dan ben je van harte welk
 om om gewoon eens binnen te wandelen. Je kunt je ook vooraf melden via inf
 o@gospelkoor-share.nl.\n\nTijdens de schoolvakanties in onze regio wordt n
 iet gerepeteerd.
CATEGORIES:repetitie
LOCATION:Repetitielocatie: Harpe Davids\, Kerkweg 80\, Ridderkerk\, Nederla
 nd
X-APPLE-STRUCTURED-LOCATION;VALUE=URI;X-ADDRESS=Kerkweg 80\, Ridderkerk\, N
 ederland;X-APPLE-RADIUS=100;X-TITLE=Repetitielocatie: Harpe Davids:geo:0,0
END:VEVENT
BEGIN:VEVENT
UID:303@gospelkoor-share.nl
DTSTART;TZID=Europe/Amsterdam:20260430T200000
DTEND;TZID=Europe/Amsterdam:20260430T220000
DTSTAMP:20250926T133721Z
URL:http://gospelkoor-share.nl/?event=repetitie-2025-10-02-2025-10-09-2025
 -10-16-2025-10-23-2025-10-30-2025-11-06-2025-11-13-2025-11-20-2025-11-27-2
 025-12-04-2025-12-11-2025-12-18-2025-12-25-2026-01-01-2026-01-08-2026-01-1
 5-23-2026-04-30
SUMMARY:Repetitie
DESCRIPTION:We repeteren elke week op donderdag van 20:00-22:00 uur. Tussen
 door nemen we tijd voor een kop koffie of thee en er tijd om bij te praten
 . Mocht je een keer willen kijken/meeluisteren\, dan ben je van harte welk
 om om gewoon eens binnen te wandelen. Je kunt je ook vooraf melden via inf
 o@gospelkoor-share.nl.\n\nTijdens de schoolvakanties in onze regio wordt n
 iet gerepeteerd.
CATEGORIES:repetitie
LOCATION:Repetitielocatie: Harpe Davids\, Kerkweg 80\, Ridderkerk\, Nederla
 nd
X-APPLE-STRUCTURED-LOCATION;VALUE=URI;X-ADDRESS=Kerkweg 80\, Ridderkerk\, N
 ederland;X-APPLE-RADIUS=100;X-TITLE=Repetitielocatie: Harpe Davids:geo:0,0
END:VEVENT
BEGIN:VEVENT
UID:304@gospelkoor-share.nl
DTSTART;TZID=Europe/Amsterdam:20260507T200000
DTEND;TZID=Europe/Amsterdam:20260507T220000
DTSTAMP:20250926T133721Z
URL:http://gospelkoor-share.nl/?event=repetitie-2025-10-02-2025-10-09-2025
 -10-16-2025-10-23-2025-10-30-2025-11-06-2025-11-13-2025-11-20-2025-11-27-2
 025-12-04-2025-12-11-2025-12-18-2025-12-25-2026-01-01-2026-01-08-2026-01-1
 5-30-2026-05-07
SUMMARY:Repetitie
DESCRIPTION:We repeteren elke week op donderdag van 20:00-22:00 uur. Tussen
 door nemen we tijd voor een kop koffie of thee en er tijd om bij te praten
 . Mocht je een keer willen kijken/meeluisteren\, dan ben je van harte welk
 om om gewoon eens binnen te wandelen. Je kunt je ook vooraf melden via inf
 o@gospelkoor-share.nl.\n\nTijdens de schoolvakanties in onze regio wordt n
 iet gerepeteerd.
CATEGORIES:repetitie
LOCATION:Repetitielocatie: Harpe Davids\, Kerkweg 80\, Ridderkerk\, Nederla
 nd
X-APPLE-STRUCTURED-LOCATION;VALUE=URI;X-ADDRESS=Kerkweg 80\, Ridderkerk\, N
 ederland;X-APPLE-RADIUS=100;X-TITLE=Repetitielocatie: Harpe Davids:geo:0,0
END:VEVENT
BEGIN:VEVENT
UID:305@gospelkoor-share.nl
DTSTART;TZID=Europe/Amsterdam:20260514T200000
DTEND;TZID=Europe/Amsterdam:20260514T220000
DTSTAMP:20250926T133721Z
URL:http://gospelkoor-share.nl/?event=repetitie-2025-10-02-2025-10-09-2025
 -10-16-2025-10-23-2025-10-30-2025-11-06-2025-11-13-2025-11-20-2025-11-27-2
 025-12-04-2025-12-11-2025-12-18-2025-12-25-2026-01-01-2026-01-08-2026-01-1
 5-07-2026-05-14
SUMMARY:Repetitie
DESCRIPTION:We repeteren elke week op donderdag van 20:00-22:00 uur. Tussen
 door nemen we tijd voor een kop koffie of thee en er tijd om bij te praten
 . Mocht je een keer willen kijken/meeluisteren\, dan ben je van harte welk
 om om gewoon eens binnen te wandelen. Je kunt je ook vooraf melden via inf
 o@gospelkoor-share.nl.\n\nTijdens de schoolvakanties in onze regio wordt n
 iet gerepeteerd.
CATEGORIES:repetitie
LOCATION:Repetitielocatie: Harpe Davids\, Kerkweg 80\, Ridderkerk\, Nederla
 nd
X-APPLE-STRUCTURED-LOCATION;VALUE=URI;X-ADDRESS=Kerkweg 80\, Ridderkerk\, N
 ederland;X-APPLE-RADIUS=100;X-TITLE=Repetitielocatie: Harpe Davids:geo:0,0
END:VEVENT
BEGIN:VEVENT
UID:306@gospelkoor-share.nl
DTSTART;TZID=Europe/Amsterdam:20260521T200000
DTEND;TZID=Europe/Amsterdam:20260521T220000
DTSTAMP:20250926T133721Z
URL:http://gospelkoor-share.nl/?event=repetitie-2025-10-02-2025-10-09-2025
 -10-16-2025-10-23-2025-10-30-2025-11-06-2025-11-13-2025-11-20-2025-11-27-2
 025-12-04-2025-12-11-2025-12-18-2025-12-25-2026-01-01-2026-01-08-2026-01-1
 5-14-2026-05-21
SUMMARY:Repetitie
DESCRIPTION:We repeteren elke week op donderdag van 20:00-22:00 uur. Tussen
 door nemen we tijd voor een kop koffie of thee en er tijd om bij te praten
 . Mocht je een keer willen kijken/meeluisteren\, dan ben je van harte welk
 om om gewoon eens binnen te wandelen. Je kunt je ook vooraf melden via inf
 o@gospelkoor-share.nl.\n\nTijdens de schoolvakanties in onze regio wordt n
 iet gerepeteerd.
CATEGORIES:repetitie
LOCATION:Repetitielocatie: Harpe Davids\, Kerkweg 80\, Ridderkerk\, Nederla
 nd
X-APPLE-STRUCTURED-LOCATION;VALUE=URI;X-ADDRESS=Kerkweg 80\, Ridderkerk\, N
 ederland;X-APPLE-RADIUS=100;X-TITLE=Repetitielocatie: Harpe Davids:geo:0,0
END:VEVENT
BEGIN:VEVENT
UID:307@gospelkoor-share.nl
DTSTART;TZID=Europe/Amsterdam:20260528T200000
DTEND;TZID=Europe/Amsterdam:20260528T220000
DTSTAMP:20250926T133721Z
URL:http://gospelkoor-share.nl/?event=repetitie-2025-10-02-2025-10-09-2025
 -10-16-2025-10-23-2025-10-30-2025-11-06-2025-11-13-2025-11-20-2025-11-27-2
 025-12-04-2025-12-11-2025-12-18-2025-12-25-2026-01-01-2026-01-08-2026-01-1
 5-21-2026-05-28
SUMMARY:Repetitie
DESCRIPTION:We repeteren elke week op donderdag van 20:00-22:00 uur. Tussen
 door nemen we tijd voor een kop koffie of thee en er tijd om bij te praten
 . Mocht je een keer willen kijken/meeluisteren\, dan ben je van harte welk
 om om gewoon eens binnen te wandelen. Je kunt je ook vooraf melden via inf
 o@gospelkoor-share.nl.\n\nTijdens de schoolvakanties in onze regio wordt n
 iet gerepeteerd.
CATEGORIES:repetitie
LOCATION:Repetitielocatie: Harpe Davids\, Kerkweg 80\, Ridderkerk\, Nederla
 nd
X-APPLE-STRUCTURED-LOCATION;VALUE=URI;X-ADDRESS=Kerkweg 80\, Ridderkerk\, N
 ederland;X-APPLE-RADIUS=100;X-TITLE=Repetitielocatie: Harpe Davids:geo:0,0
END:VEVENT
BEGIN:VEVENT
UID:308@gospelkoor-share.nl
DTSTART;TZID=Europe/Amsterdam:20260604T200000
DTEND;TZID=Europe/Amsterdam:20260604T220000
DTSTAMP:20250926T133721Z
URL:http://gospelkoor-share.nl/?event=repetitie-2025-10-02-2025-10-09-2025
 -10-16-2025-10-23-2025-10-30-2025-11-06-2025-11-13-2025-11-20-2025-11-27-2
 025-12-04-2025-12-11-2025-12-18-2025-12-25-2026-01-01-2026-01-08-2026-01-1
 5-28-2026-06-04
SUMMARY:Repetitie
DESCRIPTION:We repeteren elke week op donderdag van 20:00-22:00 uur. Tussen
 door nemen we tijd voor een kop koffie of thee en er tijd om bij te praten
 . Mocht je een keer willen kijken/meeluisteren\, dan ben je van harte welk
 om om gewoon eens binnen te wandelen. Je kunt je ook vooraf melden via inf
 o@gospelkoor-share.nl.\n\nTijdens de schoolvakanties in onze regio wordt n
 iet gerepeteerd.
CATEGORIES:repetitie
LOCATION:Repetitielocatie: Harpe Davids\, Kerkweg 80\, Ridderkerk\, Nederla
 nd
X-APPLE-STRUCTURED-LOCATION;VALUE=URI;X-ADDRESS=Kerkweg 80\, Ridderkerk\, N
 ederland;X-APPLE-RADIUS=100;X-TITLE=Repetitielocatie: Harpe Davids:geo:0,0
END:VEVENT
BEGIN:VEVENT
UID:309@gospelkoor-share.nl
DTSTART;TZID=Europe/Amsterdam:20260611T200000
DTEND;TZID=Europe/Amsterdam:20260611T220000
DTSTAMP:20250926T133721Z
URL:http://gospelkoor-share.nl/?event=repetitie-2025-10-02-2025-10-09-2025
 -10-16-2025-10-23-2025-10-30-2025-11-06-2025-11-13-2025-11-20-2025-11-27-2
 025-12-04-2025-12-11-2025-12-18-2025-12-25-2026-01-01-2026-01-08-2026-01-1
 5-04-2026-06-11
SUMMARY:Repetitie
DESCRIPTION:We repeteren elke week op donderdag van 20:00-22:00 uur. Tussen
 door nemen we tijd voor een kop koffie of thee en er tijd om bij te praten
 . Mocht je een keer willen kijken/meeluisteren\, dan ben je van harte welk
 om om gewoon eens binnen te wandelen. Je kunt je ook vooraf melden via inf
 o@gospelkoor-share.nl.\n\nTijdens de schoolvakanties in onze regio wordt n
 iet gerepeteerd.
CATEGORIES:repetitie
LOCATION:Repetitielocatie: Harpe Davids\, Kerkweg 80\, Ridderkerk\, Nederla
 nd
X-APPLE-STRUCTURED-LOCATION;VALUE=URI;X-ADDRESS=Kerkweg 80\, Ridderkerk\, N
 ederland;X-APPLE-RADIUS=100;X-TITLE=Repetitielocatie: Harpe Davids:geo:0,0
END:VEVENT
BEGIN:VEVENT
UID:310@gospelkoor-share.nl
DTSTART;TZID=Europe/Amsterdam:20260618T200000
DTEND;TZID=Europe/Amsterdam:20260618T220000
DTSTAMP:20250926T133721Z
URL:http://gospelkoor-share.nl/?event=repetitie-2025-10-02-2025-10-09-2025
 -10-16-2025-10-23-2025-10-30-2025-11-06-2025-11-13-2025-11-20-2025-11-27-2
 025-12-04-2025-12-11-2025-12-18-2025-12-25-2026-01-01-2026-01-08-2026-01-1
 5-11-2026-06-18
SUMMARY:Repetitie
DESCRIPTION:We repeteren elke week op donderdag van 20:00-22:00 uur. Tussen
 door nemen we tijd voor een kop koffie of thee en er tijd om bij te praten
 . Mocht je een keer willen kijken/meeluisteren\, dan ben je van harte welk
 om om gewoon eens binnen te wandelen. Je kunt je ook vooraf melden via inf
 o@gospelkoor-share.nl.\n\nTijdens de schoolvakanties in onze regio wordt n
 iet gerepeteerd.
CATEGORIES:repetitie
LOCATION:Repetitielocatie: Harpe Davids\, Kerkweg 80\, Ridderkerk\, Nederla
 nd
X-APPLE-STRUCTURED-LOCATION;VALUE=URI;X-ADDRESS=Kerkweg 80\, Ridderkerk\, N
 ederland;X-APPLE-RADIUS=100;X-TITLE=Repetitielocatie: Harpe Davids:geo:0,0
END:VEVENT
BEGIN:VEVENT
UID:311@gospelkoor-share.nl
DTSTART;TZID=Europe/Amsterdam:20260625T200000
DTEND;TZID=Europe/Amsterdam:20260625T220000
DTSTAMP:20250926T133721Z
URL:http://gospelkoor-share.nl/?event=repetitie-2025-10-02-2025-10-09-2025
 -10-16-2025-10-23-2025-10-30-2025-11-06-2025-11-13-2025-11-20-2025-11-27-2
 025-12-04-2025-12-11-2025-12-18-2025-12-25-2026-01-01-2026-01-08-2026-01-1
 5-18-2026-06-25
SUMMARY:Repetitie
DESCRIPTION:We repeteren elke week op donderdag van 20:00-22:00 uur. Tussen
 door nemen we tijd voor een kop koffie of thee en er tijd om bij te praten
 . Mocht je een keer willen kijken/meeluisteren\, dan ben je van harte welk
 om om gewoon eens binnen te wandelen. Je kunt je ook vooraf melden via inf
 o@gospelkoor-share.nl.\n\nTijdens de schoolvakanties in onze regio wordt n
 iet gerepeteerd.
CATEGORIES:repetitie
LOCATION:Repetitielocatie: Harpe Davids\, Kerkweg 80\, Ridderkerk\, Nederla
 nd
X-APPLE-STRUCTURED-LOCATION;VALUE=URI;X-ADDRESS=Kerkweg 80\, Ridderkerk\, N
 ederland;X-APPLE-RADIUS=100;X-TITLE=Repetitielocatie: Harpe Davids:geo:0,0
END:VEVENT
BEGIN:VEVENT
UID:312@gospelkoor-share.nl
DTSTART;TZID=Europe/Amsterdam:20260702T200000
DTEND;TZID=Europe/Amsterdam:20260702T220000
DTSTAMP:20250926T133721Z
URL:http://gospelkoor-share.nl/?event=repetitie-2025-10-02-2025-10-09-2025
 -10-16-2025-10-23-2025-10-30-2025-11-06-2025-11-13-2025-11-20-2025-11-27-2
 025-12-04-2025-12-11-2025-12-18-2025-12-25-2026-01-01-2026-01-08-2026-01-1
 5-25-2026-07-02
SUMMARY:Repetitie
DESCRIPTION:We repeteren elke week op donderdag van 20:00-22:00 uur. Tussen
 door nemen we tijd voor een kop koffie of thee en er tijd om bij te praten
 . Mocht je een keer willen kijken/meeluisteren\, dan ben je van harte welk
 om om gewoon eens binnen te wandelen. Je kunt je ook vooraf melden via inf
 o@gospelkoor-share.nl.\n\nTijdens de schoolvakanties in onze regio wordt n
 iet gerepeteerd.
CATEGORIES:repetitie
LOCATION:Repetitielocatie: Harpe Davids\, Kerkweg 80\, Ridderkerk\, Nederla
 nd
X-APPLE-STRUCTURED-LOCATION;VALUE=URI;X-ADDRESS=Kerkweg 80\, Ridderkerk\, N
 ederland;X-APPLE-RADIUS=100;X-TITLE=Repetitielocatie: Harpe Davids:geo:0,0
END:VEVENT
BEGIN:VEVENT
UID:313@gospelkoor-share.nl
DTSTART;TZID=Europe/Amsterdam:20260709T200000
DTEND;TZID=Europe/Amsterdam:20260709T220000
DTSTAMP:20250926T133721Z
URL:http://gospelkoor-share.nl/?event=repetitie-2025-10-02-2025-10-09-2025
 -10-16-2025-10-23-2025-10-30-2025-11-06-2025-11-13-2025-11-20-2025-11-27-2
 025-12-04-2025-12-11-2025-12-18-2025-12-25-2026-01-01-2026-01-08-2026-01-1
 5-02-2026-07-09
SUMMARY:Repetitie
DESCRIPTION:We repeteren elke week op donderdag van 20:00-22:00 uur. Tussen
 door nemen we tijd voor een kop koffie of thee en er tijd om bij te praten
 . Mocht je een keer willen kijken/meeluisteren\, dan ben je van harte welk
 om om gewoon eens binnen te wandelen. Je kunt je ook vooraf melden via inf
 o@gospelkoor-share.nl.\n\nTijdens de schoolvakanties in onze regio wordt n
 iet gerepeteerd.
CATEGORIES:repetitie
LOCATION:Repetitielocatie: Harpe Davids\, Kerkweg 80\, Ridderkerk\, Nederla
 nd
X-APPLE-STRUCTURED-LOCATION;VALUE=URI;X-ADDRESS=Kerkweg 80\, Ridderkerk\, N
 ederland;X-APPLE-RADIUS=100;X-TITLE=Repetitielocatie: Harpe Davids:geo:0,0
END:VEVENT
BEGIN:VEVENT
UID:314@gospelkoor-share.nl
DTSTART;TZID=Europe/Amsterdam:20260716T200000
DTEND;TZID=Europe/Amsterdam:20260716T220000
DTSTAMP:20250926T133721Z
URL:http://gospelkoor-share.nl/?event=repetitie-2025-10-02-2025-10-09-2025
 -10-16-2025-10-23-2025-10-30-2025-11-06-2025-11-13-2025-11-20-2025-11-27-2
 025-12-04-2025-12-11-2025-12-18-2025-12-25-2026-01-01-2026-01-08-2026-01-1
 5-09-2026-07-16
SUMMARY:Repetitie
DESCRIPTION:We repeteren elke week op donderdag van 20:00-22:00 uur. Tussen
 door nemen we tijd voor een kop koffie of thee en er tijd om bij te praten
 . Mocht je een keer willen kijken/meeluisteren\, dan ben je van harte welk
 om om gewoon eens binnen te wandelen. Je kunt je ook vooraf melden via inf
 o@gospelkoor-share.nl.\n\nTijdens de schoolvakanties in onze regio wordt n
 iet gerepeteerd.
CATEGORIES:repetitie
LOCATION:Repetitielocatie: Harpe Davids\, Kerkweg 80\, Ridderkerk\, Nederla
 nd
X-APPLE-STRUCTURED-LOCATION;VALUE=URI;X-ADDRESS=Kerkweg 80\, Ridderkerk\, N
 ederland;X-APPLE-RADIUS=100;X-TITLE=Repetitielocatie: Harpe Davids:geo:0,0
END:VEVENT
BEGIN:VEVENT
UID:315@gospelkoor-share.nl
DTSTART;TZID=Europe/Amsterdam:20260723T200000
DTEND;TZID=Europe/Amsterdam:20260723T220000
DTSTAMP:20250926T133721Z
URL:http://gospelkoor-share.nl/?event=repetitie-2025-10-02-2025-10-09-2025
 -10-16-2025-10-23-2025-10-30-2025-11-06-2025-11-13-2025-11-20-2025-11-27-2
 025-12-04-2025-12-11-2025-12-18-2025-12-25-2026-01-01-2026-01-08-2026-01-1
 5-16-2026-07-23
SUMMARY:Repetitie
DESCRIPTION:We repeteren elke week op donderdag van 20:00-22:00 uur. Tussen
 door nemen we tijd voor een kop koffie of thee en er tijd om bij te praten
 . Mocht je een keer willen kijken/meeluisteren\, dan ben je van harte welk
 om om gewoon eens binnen te wandelen. Je kunt je ook vooraf melden via inf
 o@gospelkoor-share.nl.\n\nTijdens de schoolvakanties in onze regio wordt n
 iet gerepeteerd.
CATEGORIES:repetitie
LOCATION:Repetitielocatie: Harpe Davids\, Kerkweg 80\, Ridderkerk\, Nederla
 nd
X-APPLE-STRUCTURED-LOCATION;VALUE=URI;X-ADDRESS=Kerkweg 80\, Ridderkerk\, N
 ederland;X-APPLE-RADIUS=100;X-TITLE=Repetitielocatie: Harpe Davids:geo:0,0
END:VEVENT
BEGIN:VTIMEZONE
TZID:Europe/Amsterdam
X-LIC-LOCATION:Europe/Amsterdam
BEGIN:DAYLIGHT
DTSTART:20260329T030000
TZOFFSETFROM:+0100
TZOFFSETTO:+0200
TZNAME:CEST
END:DAYLIGHT
END:VTIMEZONE
END:VCALENDAR